BEGIN:VCALENDAR
VERSION:2.0
PRODID:-//St. Mary's Health &amp; Clearwater Valley Health - ECPv6.15.20//NONSGML v1.0//EN
CALSCALE:GREGORIAN
METHOD:PUBLISH
X-WR-CALNAME:St. Mary's Health &amp; Clearwater Valley Health
X-ORIGINAL-URL:https://smh-cvh.org
X-WR-CALDESC:Events for St. Mary's Health &amp; Clearwater Valley Health
REFRESH-INTERVAL;VALUE=DURATION:PT1H
X-Robots-Tag:noindex
X-PUBLISHED-TTL:PT1H
BEGIN:VTIMEZONE
TZID:America/Los_Angeles
BEGIN:DAYLIGHT
TZOFFSETFROM:-0800
TZOFFSETTO:-0700
TZNAME:PDT
DTSTART:20240310T100000
END:DAYLIGHT
BEGIN:STANDARD
TZOFFSETFROM:-0700
TZOFFSETTO:-0800
TZNAME:PST
DTSTART:20241103T090000
END:STANDARD
BEGIN:DAYLIGHT
TZOFFSETFROM:-0800
TZOFFSETTO:-0700
TZNAME:PDT
DTSTART:20250309T100000
END:DAYLIGHT
BEGIN:STANDARD
TZOFFSETFROM:-0700
TZOFFSETTO:-0800
TZNAME:PST
DTSTART:20251102T090000
END:STANDARD
BEGIN:DAYLIGHT
TZOFFSETFROM:-0800
TZOFFSETTO:-0700
TZNAME:PDT
DTSTART:20260308T100000
END:DAYLIGHT
BEGIN:STANDARD
TZOFFSETFROM:-0700
TZOFFSETTO:-0800
TZNAME:PST
DTSTART:20261101T090000
END:STANDARD
END:VTIMEZONE
BEGIN:VEVENT
DTSTART;TZID=America/Los_Angeles:20250618T080000
DTEND;TZID=America/Los_Angeles:20250618T110000
DTSTAMP:20260421T014153
CREATED:20250407T223447Z
LAST-MODIFIED:20250407T223513Z
UID:10001352-1750233600-1750244400@smh-cvh.org
SUMMARY:Resource Fairs - Kooskia
DESCRIPTION:Wednesday\, June 18 – Kooskia* | 8 a.m. – 11 a.m.\nKooskia City Park
URL:https://smh-cvh.org/event/resource-fairs-9/
LOCATION:Kooskia Food Bank – Kooskia City Park\, 4th Ave. & Front Street\, Kooskia\, Idaho\, 83539
CATEGORIES:Clearwater Valley Hospital & Clinics,St. Mary's Hospital & Clinics
ATTACH;FMTTYPE=image/jpeg:https://smh-cvh.org/wp-content/uploads/2025/04/2025-Resource-Fairs-Flyer-with-Addresses-2-scaled.jpg
END:VEVENT
END:VCALENDAR